BEGIN:VCALENDAR
VERSION:2.0
PRODID:-//eHealth Exchange - ECPv6.15.17.1//NONSGML v1.0//EN
CALSCALE:GREGORIAN
METHOD:PUBLISH
X-WR-CALNAME:eHealth Exchange
X-ORIGINAL-URL:https://ehealthexchange.org
X-WR-CALDESC:Events for eHealth Exchange
REFRESH-INTERVAL;VALUE=DURATION:PT1H
X-Robots-Tag:noindex
X-PUBLISHED-TTL:PT1H
BEGIN:VTIMEZONE
TZID:America/New_York
BEGIN:DAYLIGHT
TZOFFSETFROM:-0500
TZOFFSETTO:-0400
TZNAME:EDT
DTSTART:20250309T070000
END:DAYLIGHT
BEGIN:STANDARD
TZOFFSETFROM:-0400
TZOFFSETTO:-0500
TZNAME:EST
DTSTART:20251102T060000
END:STANDARD
BEGIN:DAYLIGHT
TZOFFSETFROM:-0500
TZOFFSETTO:-0400
TZNAME:EDT
DTSTART:20260308T070000
END:DAYLIGHT
BEGIN:STANDARD
TZOFFSETFROM:-0400
TZOFFSETTO:-0500
TZNAME:EST
DTSTART:20261101T060000
END:STANDARD
BEGIN:DAYLIGHT
TZOFFSETFROM:-0500
TZOFFSETTO:-0400
TZNAME:EDT
DTSTART:20270314T070000
END:DAYLIGHT
BEGIN:STANDARD
TZOFFSETFROM:-0400
TZOFFSETTO:-0500
TZNAME:EST
DTSTART:20271107T060000
END:STANDARD
BEGIN:DAYLIGHT
TZOFFSETFROM:-0500
TZOFFSETTO:-0400
TZNAME:EDT
DTSTART:20280312T070000
END:DAYLIGHT
BEGIN:STANDARD
TZOFFSETFROM:-0400
TZOFFSETTO:-0500
TZNAME:EST
DTSTART:20281105T060000
END:STANDARD
END:VTIMEZONE
BEGIN:VEVENT
DTSTART;TZID=America/New_York:20260409T130000
DTEND;TZID=America/New_York:20271209T140000
DTSTAMP:20260422T030954
CREATED:20260305T143130Z
LAST-MODIFIED:20260305T155607Z
UID:10001238-1775739600-1828360800@ehealthexchange.org
SUMMARY:All Participant Call
DESCRIPTION:Join this monthly\, participant-only webinar for updates on the latest eHealth Exchange activities and plans.  NOTE:  If you were attending this webinar in 2025\, you were automatically registered for the 2026 call series.
URL:https://ehealthexchange.org/event/all-participant-call-2-2/2026-04-09/
LOCATION:Virtual
CATEGORIES:Network Webinar
END:VEVENT
BEGIN:VEVENT
DTSTART;VALUE=DATE:20260419
DTEND;VALUE=DATE:20260423
DTSTAMP:20260422T030954
CREATED:20251209T235152Z
LAST-MODIFIED:20260116T132619Z
UID:10001205-1776556800-1776902399@ehealthexchange.org
SUMMARY:BCBS eSolutions xChange 2026
DESCRIPTION:eHealth Exchange is excited to be exhibiting at this year’s BCBS eSolutions Exchange conference. \neSolution Xchange’s mission is to provide strategic value and Collaboration to all Blue Cross and Blue Shield Plans to meet the challenges of electronic commerce for administrative and clinical information exchange with providers. These leaders help control costs and improve the quality of healthcare by acting as a focal point for education and information exchange and by providing leadership\, support\, direction\, and information to the Blue Cross and Blue Shield Association.
URL:https://ehealthexchange.org/event/bcbs-esolutions-xchange-2026/
LOCATION:The Westin Chattanooga\, Chattanooga\, TN\, United States
CATEGORIES:Event
END:VEVENT
END:VCALENDAR