BEGIN:VCALENDAR
VERSION:2.0
PRODID:-//eHealth Exchange - ECPv6.15.17.1//NONSGML v1.0//EN
CALSCALE:GREGORIAN
METHOD:PUBLISH
X-ORIGINAL-URL:https://ehealthexchange.org
X-WR-CALDESC:Events for eHealth Exchange
REFRESH-INTERVAL;VALUE=DURATION:PT1H
X-Robots-Tag:noindex
X-PUBLISHED-TTL:PT1H
BEGIN:VTIMEZONE
TZID:America/New_York
BEGIN:DAYLIGHT
TZOFFSETFROM:-0500
TZOFFSETTO:-0400
TZNAME:EDT
DTSTART:20250309T070000
END:DAYLIGHT
BEGIN:STANDARD
TZOFFSETFROM:-0400
TZOFFSETTO:-0500
TZNAME:EST
DTSTART:20251102T060000
END:STANDARD
BEGIN:DAYLIGHT
TZOFFSETFROM:-0500
TZOFFSETTO:-0400
TZNAME:EDT
DTSTART:20260308T070000
END:DAYLIGHT
BEGIN:STANDARD
TZOFFSETFROM:-0400
TZOFFSETTO:-0500
TZNAME:EST
DTSTART:20261101T060000
END:STANDARD
BEGIN:DAYLIGHT
TZOFFSETFROM:-0500
TZOFFSETTO:-0400
TZNAME:EDT
DTSTART:20270314T070000
END:DAYLIGHT
BEGIN:STANDARD
TZOFFSETFROM:-0400
TZOFFSETTO:-0500
TZNAME:EST
DTSTART:20271107T060000
END:STANDARD
BEGIN:DAYLIGHT
TZOFFSETFROM:-0500
TZOFFSETTO:-0400
TZNAME:EDT
DTSTART:20280312T070000
END:DAYLIGHT
BEGIN:STANDARD
TZOFFSETFROM:-0400
TZOFFSETTO:-0500
TZNAME:EST
DTSTART:20281105T060000
END:STANDARD
BEGIN:DAYLIGHT
TZOFFSETFROM:-0500
TZOFFSETTO:-0400
TZNAME:EDT
DTSTART:20290311T070000
END:DAYLIGHT
BEGIN:STANDARD
TZOFFSETFROM:-0400
TZOFFSETTO:-0500
TZNAME:EST
DTSTART:20291104T060000
END:STANDARD
END:VTIMEZONE
BEGIN:VEVENT
DTSTART;TZID=America/New_York:20260409T130000
DTEND;TZID=America/New_York:20271209T140000
DTSTAMP:20260422T063815
CREATED:20260305T143130Z
LAST-MODIFIED:20260305T155607Z
UID:10001238-1775739600-1828360800@ehealthexchange.org
SUMMARY:All Participant Call
DESCRIPTION:Join this monthly\, participant-only webinar for updates on the latest eHealth Exchange activities and plans.  NOTE:  If you were attending this webinar in 2025\, you were automatically registered for the 2026 call series.
URL:https://ehealthexchange.org/event/all-participant-call-2-2/2026-04-09/
LOCATION:Virtual
CATEGORIES:Network Webinar
END:VEVENT
BEGIN:VEVENT
DTSTART;TZID=America/New_York:20260514T130000
DTEND;TZID=America/New_York:20280113T140000
DTSTAMP:20260422T063815
CREATED:20260305T143130Z
LAST-MODIFIED:20260305T155607Z
UID:10001239-1778763600-1831384800@ehealthexchange.org
SUMMARY:All Participant Call
DESCRIPTION:Join this monthly\, participant-only webinar for updates on the latest eHealth Exchange activities and plans.  NOTE:  If you were attending this webinar in 2025\, you were automatically registered for the 2026 call series.
URL:https://ehealthexchange.org/event/all-participant-call-2-2/2026-05-14/
LOCATION:Virtual
CATEGORIES:Network Webinar
END:VEVENT
BEGIN:VEVENT
DTSTART;TZID=America/New_York:20260611T130000
DTEND;TZID=America/New_York:20280210T140000
DTSTAMP:20260422T063815
CREATED:20260305T143130Z
LAST-MODIFIED:20260305T155607Z
UID:10001240-1781182800-1833804000@ehealthexchange.org
SUMMARY:All Participant Call
DESCRIPTION:Join this monthly\, participant-only webinar for updates on the latest eHealth Exchange activities and plans.  NOTE:  If you were attending this webinar in 2025\, you were automatically registered for the 2026 call series.
URL:https://ehealthexchange.org/event/all-participant-call-2-2/2026-06-11/
LOCATION:Virtual
CATEGORIES:Network Webinar
END:VEVENT
BEGIN:VEVENT
DTSTART;TZID=America/New_York:20260702T160000
DTEND;TZID=America/New_York:20260702T170000
DTSTAMP:20260422T063815
CREATED:20251219T172829Z
LAST-MODIFIED:20251219T173900Z
UID:10001122-1783008000-1783011600@ehealthexchange.org
SUMMARY:Technical Workgroup
DESCRIPTION:Open to the public\, this Technical Workgroup meets the first Thursday of each month to discuss the eHealth Exchange network\, our QHIN and CMS-Aligned Network criteria (as it unfolds). Topics will include technical specifications\, testing\, hub updates\, and capacity planning. \nNOTE: If you were attending in 2025\, you were automatically registered for 2026. \n 
URL:https://ehealthexchange.org/event/technical-workgroup-3-2-2-2-2/2026-07-02/
LOCATION:Virtual
CATEGORIES:Network Webinar
END:VEVENT
BEGIN:VEVENT
DTSTART;TZID=America/New_York:20260709T130000
DTEND;TZID=America/New_York:20280309T140000
DTSTAMP:20260422T063815
CREATED:20260305T143130Z
LAST-MODIFIED:20260305T155607Z
UID:10001241-1783602000-1836223200@ehealthexchange.org
SUMMARY:All Participant Call
DESCRIPTION:Join this monthly\, participant-only webinar for updates on the latest eHealth Exchange activities and plans.  NOTE:  If you were attending this webinar in 2025\, you were automatically registered for the 2026 call series.
URL:https://ehealthexchange.org/event/all-participant-call-2-2/2026-07-09/
LOCATION:Virtual
CATEGORIES:Network Webinar
END:VEVENT
END:VCALENDAR