BEGIN:VCALENDAR
VERSION:2.0
PRODID:-//eHealth Exchange - ECPv6.15.17.1//NONSGML v1.0//EN
CALSCALE:GREGORIAN
METHOD:PUBLISH
X-ORIGINAL-URL:https://ehealthexchange.org
X-WR-CALDESC:Events for eHealth Exchange
REFRESH-INTERVAL;VALUE=DURATION:PT1H
X-Robots-Tag:noindex
X-PUBLISHED-TTL:PT1H
BEGIN:VTIMEZONE
TZID:America/New_York
BEGIN:DAYLIGHT
TZOFFSETFROM:-0500
TZOFFSETTO:-0400
TZNAME:EDT
DTSTART:20240310T070000
END:DAYLIGHT
BEGIN:STANDARD
TZOFFSETFROM:-0400
TZOFFSETTO:-0500
TZNAME:EST
DTSTART:20241103T060000
END:STANDARD
BEGIN:DAYLIGHT
TZOFFSETFROM:-0500
TZOFFSETTO:-0400
TZNAME:EDT
DTSTART:20250309T070000
END:DAYLIGHT
BEGIN:STANDARD
TZOFFSETFROM:-0400
TZOFFSETTO:-0500
TZNAME:EST
DTSTART:20251102T060000
END:STANDARD
BEGIN:DAYLIGHT
TZOFFSETFROM:-0500
TZOFFSETTO:-0400
TZNAME:EDT
DTSTART:20260308T070000
END:DAYLIGHT
BEGIN:STANDARD
TZOFFSETFROM:-0400
TZOFFSETTO:-0500
TZNAME:EST
DTSTART:20261101T060000
END:STANDARD
END:VTIMEZONE
BEGIN:VEVENT
DTSTART;VALUE=DATE:20250520
DTEND;VALUE=DATE:20250523
DTSTAMP:20260421T103842
CREATED:20250319T001225Z
LAST-MODIFIED:20250319T002045Z
UID:10001170-1747699200-1747958399@ehealthexchange.org
SUMMARY:KLAS K2 Collaborative Payer/Provider Summit 2025
DESCRIPTION:The K2 Collaborative Payer/Provider Summit will bring together industry leaders\, vendors\, health plan and healthcare organization stakeholders to highlight successful and mutually beneficial outcomes and tackle pressing data exchange\, revenue cycle\, and transition to value challenges through expert-led discussions\, collaborative idea-sharing\, and problem-solving for both the short and long term.
URL:https://ehealthexchange.org/event/klas-k2-collaborative-payer-provider-summit-2025/
LOCATION:The Little America\, 500 Main Street\, Salt Lake City\, UT\, 84101\, United States
CATEGORIES:Event
END:VEVENT
END:VCALENDAR